Package: msigdb Version: 1.18.0 Command: /home/biocbuild/bbs-3.22-bioc/R/bin/R CMD INSTALL msigdb StartedAt: 2025-11-13 10:57:30 -0500 (Thu, 13 Nov 2025) EndedAt: 2025-11-13 10:57:32 -0500 (Thu, 13 Nov 2025) EllapsedTime: 1.8 seconds RetCode: 0 Status: OK