Package: msigdb Version: 1.18.0 Command: /home/biocbuild/bbs-3.22-bioc/R/bin/R CMD build --keep-empty-dirs --no-resave-data msigdb StartedAt: 2025-11-13 11:32:18 -0500 (Thu, 13 Nov 2025) EndedAt: 2025-11-13 11:40:26 -0500 (Thu, 13 Nov 2025) EllapsedTime: 487.3 seconds RetCode: 0 Status: OK PackageFile: msigdb_1.18.0.tar.gz PackageFileSize: 304.8 KiB