Package: msd16s Version: 1.30.0 Command: /home/biocbuild/bbs-3.22-bioc/R/bin/R CMD INSTALL msd16s StartedAt: 2025-11-13 10:56:29 -0500 (Thu, 13 Nov 2025) EndedAt: 2025-11-13 10:56:36 -0500 (Thu, 13 Nov 2025) EllapsedTime: 7.7 seconds RetCode: 0 Status: OK