Package: msd16s Version: 1.30.0 Command: /home/biocbuild/bbs-3.22-bioc/R/bin/R CMD build --keep-empty-dirs --no-resave-data msd16s StartedAt: 2025-11-13 11:32:01 -0500 (Thu, 13 Nov 2025) EndedAt: 2025-11-13 11:32:15 -0500 (Thu, 13 Nov 2025) EllapsedTime: 14.0 seconds RetCode: 0 Status: OK PackageFile: msd16s_1.30.0.tar.gz PackageFileSize: 1.808 MiB