Package: minfiDataEPIC Version: 1.36.0 Command: /home/biocbuild/bbs-3.22-bioc/R/bin/R CMD INSTALL minfiDataEPIC StartedAt: 2025-11-13 11:01:59 -0500 (Thu, 13 Nov 2025) EndedAt: 2025-11-13 11:02:47 -0500 (Thu, 13 Nov 2025) EllapsedTime: 47.5 seconds RetCode: 0 Status: OK