Package: minfiDataEPIC
Version: 1.34.0
Maintainer: Kasper Daniel Hansen
MaintainerEmail: kasperdanielhansen at gmail.com
git_url: https://git.bioconductor.org/packages/minfiDataEPIC
git_branch: RELEASE_3_21
git_last_commit: 2174466
git_last_commit_date: 2025-04-15 10:07:50 -0400 (Tue, 15 Apr 2025)