Package: minfiData Version: 0.56.0 Command: /home/biocbuild/bbs-3.22-bioc/R/bin/R CMD INSTALL minfiData StartedAt: 2025-11-13 11:01:36 -0500 (Thu, 13 Nov 2025) EndedAt: 2025-11-13 11:02:18 -0500 (Thu, 13 Nov 2025) EllapsedTime: 41.6 seconds RetCode: 0 Status: OK