Package: minfiData Version: 0.56.0 Command: /home/biocbuild/bbs-3.22-bioc/R/bin/R CMD build --keep-empty-dirs --no-resave-data minfiData StartedAt: 2025-11-13 11:31:16 -0500 (Thu, 13 Nov 2025) EndedAt: 2025-11-13 11:31:28 -0500 (Thu, 13 Nov 2025) EllapsedTime: 12.7 seconds RetCode: 0 Status: OK PackageFile: minfiData_0.56.0.tar.gz PackageFileSize: 74.56 MiB