Package: microbiomeDataSets Version: 1.18.0 Command: /home/biocbuild/bbs-3.22-bioc/R/bin/R CMD INSTALL microbiomeDataSets StartedAt: 2025-11-13 11:01:26 -0500 (Thu, 13 Nov 2025) EndedAt: 2025-11-13 11:01:59 -0500 (Thu, 13 Nov 2025) EllapsedTime: 32.9 seconds RetCode: 0 Status: OK