Package: methylclockData Version: 1.18.0 Command: /home/biocbuild/bbs-3.22-bioc/R/bin/R CMD INSTALL methylclockData StartedAt: 2025-11-13 11:03:31 -0500 (Thu, 13 Nov 2025) EndedAt: 2025-11-13 11:04:09 -0500 (Thu, 13 Nov 2025) EllapsedTime: 38.3 seconds RetCode: 0 Status: OK