Package: mCSEAdata Version: 1.30.0 Command: /home/biocbuild/bbs-3.22-bioc/R/bin/R CMD INSTALL mCSEAdata StartedAt: 2025-11-13 10:57:59 -0500 (Thu, 13 Nov 2025) EndedAt: 2025-11-13 10:59:47 -0500 (Thu, 13 Nov 2025) EllapsedTime: 108.1 seconds RetCode: 0 Status: OK