Package: mCSEAdata Version: 1.30.0 Command: /home/biocbuild/bbs-3.22-bioc/R/bin/R CMD build --keep-empty-dirs --no-resave-data mCSEAdata StartedAt: 2025-11-13 11:28:46 -0500 (Thu, 13 Nov 2025) EndedAt: 2025-11-13 11:30:44 -0500 (Thu, 13 Nov 2025) EllapsedTime: 117.6 seconds RetCode: 0 Status: OK PackageFile: mCSEAdata_1.30.0.tar.gz PackageFileSize: 25.04 MiB