Package: imcdatasets Version: 1.18.0 Command: /home/biocbuild/bbs-3.22-bioc/R/bin/R CMD check --install=check:imcdatasets.install-out.txt --library=/home/biocbuild/bbs-3.22-bioc/R/site-library --timings imcdatasets_1.18.0.tar.gz StartedAt: 2025-11-20 12:44:21 -0500 (Thu, 20 Nov 2025) EndedAt: 2025-11-20 13:00:12 -0500 (Thu, 20 Nov 2025) EllapsedTime: 950.4 seconds RetCode: 0 Status: OK CheckDir: imcdatasets.Rcheck Warnings: 0