Package: imcdatasets Version: 1.18.0 Command: /home/biocbuild/bbs-3.22-bioc/R/bin/R CMD build --keep-empty-dirs --no-resave-data imcdatasets StartedAt: 2025-11-13 11:25:22 -0500 (Thu, 13 Nov 2025) EndedAt: 2025-11-13 11:27:50 -0500 (Thu, 13 Nov 2025) EllapsedTime: 147.9 seconds RetCode: 0 Status: OK PackageFile: imcdatasets_1.18.0.tar.gz PackageFileSize: 1.629 MiB