Package: imcdatasets Version: 1.16.0 Command: /home/biocbuild/bbs-3.21-bioc/R/bin/R CMD build --keep-empty-dirs --no-resave-data imcdatasets StartedAt: 2025-10-16 11:23:50 -0400 (Thu, 16 Oct 2025) EndedAt: 2025-10-16 11:26:22 -0400 (Thu, 16 Oct 2025) EllapsedTime: 152.0 seconds RetCode: 0 Status: OK PackageFile: imcdatasets_1.16.0.tar.gz PackageFileSize: 1.629 MiB