Package: homosapienDEE2CellScore Version: 1.6.0 Command: /home/biocbuild/bbs-3.22-bioc/R/bin/R CMD INSTALL homosapienDEE2CellScore StartedAt: 2025-11-13 11:00:09 -0500 (Thu, 13 Nov 2025) EndedAt: 2025-11-13 11:00:39 -0500 (Thu, 13 Nov 2025) EllapsedTime: 30.5 seconds RetCode: 0 Status: OK