Package: homosapienDEE2CellScore Version: 1.6.0 Command: /home/biocbuild/bbs-3.22-bioc/R/bin/R CMD build --keep-empty-dirs --no-resave-data homosapienDEE2CellScore StartedAt: 2025-11-13 11:24:47 -0500 (Thu, 13 Nov 2025) EndedAt: 2025-11-13 11:25:30 -0500 (Thu, 13 Nov 2025) EllapsedTime: 43.1 seconds RetCode: 1 Status: ERROR PackageFile: None PackageFileSize: NA