Package: healthyFlowData Version: 1.48.0 Command: /home/biocbuild/bbs-3.22-bioc/R/bin/R CMD build --keep-empty-dirs --no-resave-data healthyFlowData StartedAt: 2025-11-13 11:23:29 -0500 (Thu, 13 Nov 2025) EndedAt: 2025-11-13 11:23:38 -0500 (Thu, 13 Nov 2025) EllapsedTime: 8.4 seconds RetCode: 0 Status: OK PackageFile: healthyFlowData_1.48.0.tar.gz PackageFileSize: 10.89 MiB