Package: healthyControlsPresenceChecker Version: 1.14.0 Command: /home/biocbuild/bbs-3.22-bioc/R/bin/R CMD INSTALL healthyControlsPresenceChecker StartedAt: 2025-11-13 11:01:26 -0500 (Thu, 13 Nov 2025) EndedAt: 2025-11-13 11:01:48 -0500 (Thu, 13 Nov 2025) EllapsedTime: 21.6 seconds RetCode: 0 Status: OK