Package: healthyControlsPresenceChecker Version: 1.14.0 Command: /home/biocbuild/bbs-3.22-bioc/R/bin/R CMD build --keep-empty-dirs --no-resave-data healthyControlsPresenceChecker StartedAt: 2025-11-13 11:23:06 -0500 (Thu, 13 Nov 2025) EndedAt: 2025-11-13 11:23:59 -0500 (Thu, 13 Nov 2025) EllapsedTime: 52.6 seconds RetCode: 0 Status: OK PackageFile: healthyControlsPresenceChecker_1.14.0.tar.gz PackageFileSize: 219.9 KiB