Package: harbChIP Version: 1.48.0 Command: /home/biocbuild/bbs-3.22-bioc/R/bin/R CMD INSTALL harbChIP StartedAt: 2025-11-13 10:56:34 -0500 (Thu, 13 Nov 2025) EndedAt: 2025-11-13 10:56:48 -0500 (Thu, 13 Nov 2025) EllapsedTime: 13.4 seconds RetCode: 0 Status: OK