Package: harbChIP Version: 1.48.0 Command: /home/biocbuild/bbs-3.22-bioc/R/bin/R CMD build --keep-empty-dirs --no-resave-data harbChIP StartedAt: 2025-11-13 11:21:52 -0500 (Thu, 13 Nov 2025) EndedAt: 2025-11-13 11:22:15 -0500 (Thu, 13 Nov 2025) EllapsedTime: 23.6 seconds RetCode: 0 Status: OK PackageFile: harbChIP_1.48.0.tar.gz PackageFileSize: 7.204 MiB