Package: hapmapsnp6 Version: 1.52.0 Command: /home/biocbuild/bbs-3.22-bioc/R/bin/R CMD INSTALL hapmapsnp6 StartedAt: 2025-11-13 10:55:27 -0500 (Thu, 13 Nov 2025) EndedAt: 2025-11-13 10:55:50 -0500 (Thu, 13 Nov 2025) EllapsedTime: 23.4 seconds RetCode: 0 Status: OK