Package: hapmap500ksty Version: 1.52.0 Command: /home/biocbuild/bbs-3.22-bioc/R/bin/R CMD INSTALL hapmap500ksty StartedAt: 2025-11-13 10:55:34 -0500 (Thu, 13 Nov 2025) EndedAt: 2025-11-13 10:55:36 -0500 (Thu, 13 Nov 2025) EllapsedTime: 1.7 seconds RetCode: 0 Status: OK