Package: hapmap500knsp Version: 1.52.0 Maintainer: Benilton Carvalho MaintainerEmail: Benilton.Carvalho at cancer.org.uk git_url: https://git.bioconductor.org/packages/hapmap500knsp git_branch: RELEASE_3_22 git_last_commit: 7e3902e git_last_commit_date: 2025-10-29 09:31:05 -0500 (Wed, 29 Oct 2025)