Package: hapmap100kxba Version: 1.52.0 Command: /home/biocbuild/bbs-3.22-bioc/R/bin/R CMD build --keep-empty-dirs --no-resave-data hapmap100kxba StartedAt: 2025-11-13 11:20:55 -0500 (Thu, 13 Nov 2025) EndedAt: 2025-11-13 11:21:51 -0500 (Thu, 13 Nov 2025) EllapsedTime: 56.2 seconds RetCode: 0 Status: OK PackageFile: hapmap100kxba_1.52.0.tar.gz PackageFileSize: 38.99 MiB