Package: hapmap100khind Version: 1.50.0 Command: /home/biocbuild/bbs-3.21-bioc/R/bin/R CMD INSTALL hapmap100khind StartedAt: 2025-10-16 10:55:41 -0400 (Thu, 16 Oct 2025) EndedAt: 2025-10-16 10:55:45 -0400 (Thu, 16 Oct 2025) EllapsedTime: 3.8 seconds RetCode: 0 Status: OK