Package: hapmap100khind Version: 1.50.0 Command: /home/biocbuild/bbs-3.21-bioc/R/bin/R CMD build --keep-empty-dirs --no-resave-data hapmap100khind StartedAt: 2025-05-22 11:19:13 -0400 (Thu, 22 May 2025) EndedAt: 2025-05-22 11:20:10 -0400 (Thu, 22 May 2025) EllapsedTime: 57.8 seconds RetCode: 0 Status: OK PackageFile: hapmap100khind_1.50.0.tar.gz PackageFileSize: 38.05 <A href="http://en.wikipedia.org/wiki/MiB" target="_blank">MiB</A>