Package: gpaExample
Version: 1.20.0
Maintainer: Dongjun Chung
MaintainerEmail: dongjun.chung at gmail.com
git_url: https://git.bioconductor.org/packages/gpaExample
git_branch: RELEASE_3_21
git_last_commit: bf1e5ac
git_last_commit_date: 2025-04-15 10:14:57 -0400 (Tue, 15 Apr 2025)