Package: genomationData Version: 1.42.0 Command: /home/biocbuild/bbs-3.22-bioc/R/bin/R CMD INSTALL genomationData StartedAt: 2025-11-18 10:56:13 -0500 (Tue, 18 Nov 2025) EndedAt: 2025-11-18 10:56:19 -0500 (Tue, 18 Nov 2025) EllapsedTime: 6.5 seconds RetCode: 0 Status: OK