Package: genomationData Version: 1.42.0 Command: /home/biocbuild/bbs-3.22-bioc/R/bin/R CMD build --keep-empty-dirs --no-resave-data genomationData StartedAt: 2025-11-18 11:31:51 -0500 (Tue, 18 Nov 2025) EndedAt: 2025-11-18 11:31:59 -0500 (Tue, 18 Nov 2025) EllapsedTime: 8.3 seconds RetCode: 0 Status: OK PackageFile: genomationData_1.42.0.tar.gz PackageFileSize: 66.49 MiB