Package: geneLenDataBase Version: 1.46.0 Command: /home/biocbuild/bbs-3.22-bioc/R/bin/R CMD INSTALL geneLenDataBase StartedAt: 2025-11-13 11:01:25 -0500 (Thu, 13 Nov 2025) EndedAt: 2025-11-13 11:02:44 -0500 (Thu, 13 Nov 2025) EllapsedTime: 79.1 seconds RetCode: 0 Status: OK