Package: gDNAinRNAseqData Version: 1.10.0 Command: /home/biocbuild/bbs-3.22-bioc/R/bin/R CMD INSTALL gDNAinRNAseqData StartedAt: 2025-11-13 11:03:27 -0500 (Thu, 13 Nov 2025) EndedAt: 2025-11-13 11:03:43 -0500 (Thu, 13 Nov 2025) EllapsedTime: 16.7 seconds RetCode: 0 Status: OK