Package: gDNAinRNAseqData Version: 1.10.0 Command: /home/biocbuild/bbs-3.22-bioc/R/bin/R CMD build --keep-empty-dirs --no-resave-data gDNAinRNAseqData StartedAt: 2025-11-13 11:19:49 -0500 (Thu, 13 Nov 2025) EndedAt: 2025-11-13 11:20:45 -0500 (Thu, 13 Nov 2025) EllapsedTime: 55.8 seconds RetCode: 0 Status: OK PackageFile: gDNAinRNAseqData_1.10.0.tar.gz PackageFileSize: 296.1 KiB