Package: frmaExampleData Version: 1.46.0 Command: /home/biocbuild/bbs-3.22-bioc/R/bin/R CMD INSTALL frmaExampleData StartedAt: 2025-11-13 10:55:32 -0500 (Thu, 13 Nov 2025) EndedAt: 2025-11-13 10:55:35 -0500 (Thu, 13 Nov 2025) EllapsedTime: 3.0 seconds RetCode: 0 Status: OK