Package: frmaExampleData Version: 1.46.0 Command: /home/biocbuild/bbs-3.22-bioc/R/bin/R CMD build --keep-empty-dirs --no-resave-data frmaExampleData StartedAt: 2025-11-13 11:19:36 -0500 (Thu, 13 Nov 2025) EndedAt: 2025-11-13 11:19:40 -0500 (Thu, 13 Nov 2025) EllapsedTime: 4.3 seconds RetCode: 0 Status: OK PackageFile: frmaExampleData_1.46.0.tar.gz PackageFileSize: 15.88 MiB