Package: fourDNData Version: 1.10.0 Command: /home/biocbuild/bbs-3.22-bioc/R/bin/R CMD INSTALL fourDNData StartedAt: 2025-11-13 10:58:55 -0500 (Thu, 13 Nov 2025) EndedAt: 2025-11-13 10:59:05 -0500 (Thu, 13 Nov 2025) EllapsedTime: 10.4 seconds RetCode: 0 Status: OK