Package: flowWorkspaceData Version: 3.22.0 Command: /home/biocbuild/bbs-3.22-bioc/R/bin/R CMD INSTALL flowWorkspaceData StartedAt: 2025-11-13 10:55:38 -0500 (Thu, 13 Nov 2025) EndedAt: 2025-11-13 10:55:41 -0500 (Thu, 13 Nov 2025) EllapsedTime: 2.9 seconds RetCode: 0 Status: OK