##############################################################################
##############################################################################
###
### Running command:
###
###   /home/biocbuild/bbs-3.21-bioc/R/bin/R CMD build --keep-empty-dirs --no-resave-data flowWorkspaceData
###
##############################################################################
##############################################################################


* checking for file ‘flowWorkspaceData/DESCRIPTION’ ... OK
* preparing ‘flowWorkspaceData’:
* checking DESCRIPTION meta-information ... OK
* checking for LF line-endings in source and make files and shell scripts
* checking for empty or unneeded directories
* building ‘flowWorkspaceData_3.20.0.tar.gz’