Package: flowPloidyData Version: 1.36.0 Command: /home/biocbuild/bbs-3.22-bioc/R/bin/R CMD INSTALL flowPloidyData StartedAt: 2025-11-13 10:55:18 -0500 (Thu, 13 Nov 2025) EndedAt: 2025-11-13 10:55:19 -0500 (Thu, 13 Nov 2025) EllapsedTime: 1.8 seconds RetCode: 0 Status: OK