Package: ffpeExampleData Version: 1.46.0 Command: /home/biocbuild/bbs-3.21-bioc/R/bin/R CMD INSTALL ffpeExampleData StartedAt: 2025-10-16 11:04:19 -0400 (Thu, 16 Oct 2025) EndedAt: 2025-10-16 11:04:48 -0400 (Thu, 16 Oct 2025) EllapsedTime: 28.5 seconds RetCode: 0 Status: OK