Package: ewceData Version: 1.18.0 Command: /home/biocbuild/bbs-3.22-bioc/R/bin/R CMD INSTALL ewceData StartedAt: 2025-11-13 10:56:51 -0500 (Thu, 13 Nov 2025) EndedAt: 2025-11-13 10:57:04 -0500 (Thu, 13 Nov 2025) EllapsedTime: 13.0 seconds RetCode: 0 Status: OK