Package: ewceData Version: 1.18.0 Command: /home/biocbuild/bbs-3.22-bioc/R/bin/R CMD build --keep-empty-dirs --no-resave-data ewceData StartedAt: 2025-11-13 11:17:27 -0500 (Thu, 13 Nov 2025) EndedAt: 2025-11-13 11:18:15 -0500 (Thu, 13 Nov 2025) EllapsedTime: 47.5 seconds RetCode: 0 Status: OK PackageFile: ewceData_1.18.0.tar.gz PackageFileSize: 45.36 KiB