Package: eoPredData Version: 1.4.0 Command: /home/biocbuild/bbs-3.22-bioc/R/bin/R CMD INSTALL eoPredData StartedAt: 2025-11-13 10:56:53 -0500 (Thu, 13 Nov 2025) EndedAt: 2025-11-13 10:57:06 -0500 (Thu, 13 Nov 2025) EllapsedTime: 12.7 seconds RetCode: 0 Status: OK