Package: easierData Version: 1.16.0 Command: /home/biocbuild/bbs-3.22-bioc/R/bin/R CMD INSTALL easierData StartedAt: 2025-11-13 11:04:05 -0500 (Thu, 13 Nov 2025) EndedAt: 2025-11-13 11:04:31 -0500 (Thu, 13 Nov 2025) EllapsedTime: 26.2 seconds RetCode: 0 Status: OK