Package: easierData Version: 1.16.0 Command: /home/biocbuild/bbs-3.22-bioc/R/bin/R CMD build --keep-empty-dirs --no-resave-data easierData StartedAt: 2025-11-13 11:16:27 -0500 (Thu, 13 Nov 2025) EndedAt: 2025-11-13 11:17:17 -0500 (Thu, 13 Nov 2025) EllapsedTime: 49.2 seconds RetCode: 0 Status: OK PackageFile: easierData_1.16.0.tar.gz PackageFileSize: 408.2 KiB