Package: diffloopdata Version: 1.38.0 Command: /home/biocbuild/bbs-3.22-bioc/R/bin/R CMD build --keep-empty-dirs --no-resave-data diffloopdata StartedAt: 2025-11-13 11:15:12 -0500 (Thu, 13 Nov 2025) EndedAt: 2025-11-13 11:15:24 -0500 (Thu, 13 Nov 2025) EllapsedTime: 11.3 seconds RetCode: 0 Status: OK PackageFile: diffloopdata_1.38.0.tar.gz PackageFileSize: 11.08 MiB