Package: curatedTCGAData Version: 1.32.0 Command: /home/biocbuild/bbs-3.22-bioc/R/bin/R CMD build --keep-empty-dirs --no-resave-data curatedTCGAData StartedAt: 2025-11-13 11:13:38 -0500 (Thu, 13 Nov 2025) EndedAt: 2025-11-13 11:14:53 -0500 (Thu, 13 Nov 2025) EllapsedTime: 75.2 seconds RetCode: 0 Status: OK PackageFile: curatedTCGAData_1.32.0.tar.gz PackageFileSize: 417.1 KiB