Package: curatedTBData Version: 2.6.0 Command: /home/biocbuild/bbs-3.22-bioc/R/bin/R CMD INSTALL curatedTBData StartedAt: 2025-11-20 10:59:44 -0500 (Thu, 20 Nov 2025) EndedAt: 2025-11-20 11:00:14 -0500 (Thu, 20 Nov 2025) EllapsedTime: 30.4 seconds RetCode: 0 Status: OK