Package: curatedPCaData
Version: 1.4.0
Maintainer: Teemu Daniel Laajala
MaintainerEmail: teelaa at utu.fi
git_url: https://git.bioconductor.org/packages/curatedPCaData
git_branch: RELEASE_3_21
git_last_commit: bd75a85
git_last_commit_date: 2025-04-15 10:23:58 -0400 (Tue, 15 Apr 2025)